BEGIN:VCALENDAR
VERSION:2.0
PRODID:-//Miejska Biblioteka Publiczna w Ostródzie - ECPv6.15.20//NONSGML v1.0//EN
CALSCALE:GREGORIAN
METHOD:PUBLISH
X-WR-CALNAME:Miejska Biblioteka Publiczna w Ostródzie
X-ORIGINAL-URL:https://bibliotekaostroda.pl
X-WR-CALDESC:Wydarzenia dla Miejska Biblioteka Publiczna w Ostródzie
REFRESH-INTERVAL;VALUE=DURATION:PT1H
X-Robots-Tag:noindex
X-PUBLISHED-TTL:PT1H
BEGIN:VTIMEZONE
TZID:UTC
BEGIN:STANDARD
TZOFFSETFROM:+0000
TZOFFSETTO:+0000
TZNAME:UTC
DTSTART:20250101T000000
END:STANDARD
END:VTIMEZONE
BEGIN:VEVENT
DTSTART;TZID=UTC:20260423T160000
DTEND;TZID=UTC:20260423T170000
DTSTAMP:20260423T014854
CREATED:20260330T083407Z
LAST-MODIFIED:20260330T093847Z
UID:3925-1776960000-1776963600@bibliotekaostroda.pl
SUMMARY:Miś Czytuś zaprasza – zajęcia literacko-plastyczne dla dzieci
DESCRIPTION:
URL:https://bibliotekaostroda.pl/index.php/event/mis-czytus-zaprasza-zajecia-literacko-plastyczne-dla-dzieci-176/
CATEGORIES:Miś Czytuś zaprasza – zajęcia literacko-plastyczne dla dzieci
ORGANIZER;CN="MBP %E2%80%93 Filia nr 3%2C ul. Chrobrego 2":MAILTO:filia@bibliotekaostroda.pl
END:VEVENT
END:VCALENDAR