BEGIN:VCALENDAR
VERSION:2.0
PRODID:-//Miejska Biblioteka Publiczna w Ostródzie - ECPv6.15.20//NONSGML v1.0//EN
CALSCALE:GREGORIAN
METHOD:PUBLISH
X-WR-CALNAME:Miejska Biblioteka Publiczna w Ostródzie
X-ORIGINAL-URL:https://bibliotekaostroda.pl
X-WR-CALDESC:Wydarzenia dla Miejska Biblioteka Publiczna w Ostródzie
REFRESH-INTERVAL;VALUE=DURATION:PT1H
X-Robots-Tag:noindex
X-PUBLISHED-TTL:PT1H
BEGIN:VTIMEZONE
TZID:UTC
BEGIN:STANDARD
TZOFFSETFROM:+0000
TZOFFSETTO:+0000
TZNAME:UTC
DTSTART:20250101T000000
END:STANDARD
END:VTIMEZONE
BEGIN:VEVENT
DTSTART;TZID=UTC:20260424T160000
DTEND;TZID=UTC:20260424T170000
DTSTAMP:20260424T020534
CREATED:20260330T083508Z
LAST-MODIFIED:20260330T093834Z
UID:3927-1777046400-1777050000@bibliotekaostroda.pl
SUMMARY:Klub Zwariowanych Robótek – artystyczne zajęcia dla dzieci i młodzieży
DESCRIPTION:
URL:https://bibliotekaostroda.pl/index.php/event/klub-zwariowanych-robotek-artystyczne-zajecia-dla-dzieci-i-mlodziezy-172/
CATEGORIES:Klub Zwariowanych Robótek – artystyczne zajęcia dla dzieci i młodzieży
ORGANIZER;CN="MBP w ostr%C3%B3dzkim zamku %E2%80%93 Oddzia%C5%82 dla Dzieci":MAILTO:dzieci@bibliotekaostroda.pl
END:VEVENT
END:VCALENDAR