BEGIN:VCALENDAR
VERSION:2.0
PRODID:-//Miejska Biblioteka Publiczna w Ostródzie - ECPv6.15.20//NONSGML v1.0//EN
CALSCALE:GREGORIAN
METHOD:PUBLISH
X-WR-CALNAME:Miejska Biblioteka Publiczna w Ostródzie
X-ORIGINAL-URL:https://bibliotekaostroda.pl
X-WR-CALDESC:Wydarzenia dla Miejska Biblioteka Publiczna w Ostródzie
REFRESH-INTERVAL;VALUE=DURATION:PT1H
X-Robots-Tag:noindex
X-PUBLISHED-TTL:PT1H
BEGIN:VTIMEZONE
TZID:UTC
BEGIN:STANDARD
TZOFFSETFROM:+0000
TZOFFSETTO:+0000
TZNAME:UTC
DTSTART:20250101T000000
END:STANDARD
END:VTIMEZONE
BEGIN:VEVENT
DTSTART;TZID=UTC:20260425T100000
DTEND;TZID=UTC:20260425T130000
DTSTAMP:20260425T015336
CREATED:20260330T083601Z
LAST-MODIFIED:20260330T093821Z
UID:3929-1777111200-1777122000@bibliotekaostroda.pl
SUMMARY:Gry planszowe\, gra wielkoformatowa
DESCRIPTION:
URL:https://bibliotekaostroda.pl/index.php/event/gry-planszowe-gra-wielkoformatowa-3/
CATEGORIES:Gry planszowe, gra wielkoformatowa
ORGANIZER;CN="MBP w ostr%C3%B3dzkim zamku %E2%80%93 Oddzia%C5%82 dla Dzieci":MAILTO:dzieci@bibliotekaostroda.pl
END:VEVENT
END:VCALENDAR